BEGIN:VCALENDAR
VERSION:2.0
PRODID:spatie/icalendar-generator
DESCRIPTION:Events from Emmanuel Presbyterian
X-WR-CALDESC:Events from Emmanuel Presbyterian
REFRESH-INTERVAL;VALUE=DURATION:PT1440M
X-PUBLISHED-TTL:PT1440M
BEGIN:VTIMEZONE
TZID:America/Chicago
BEGIN:STANDARD
DTSTART:20251102T020000Z
TZOFFSETFROM:-0500
TZOFFSETTO:-0600
END:STANDARD
BEGIN:DAYLIGHT
DTSTART:20260308T020000Z
TZOFFSETFROM:-0600
TZOFFSETTO:-0500
END:DAYLIGHT
BEGIN:STANDARD
DTSTART:20261101T020000Z
TZOFFSETFROM:-0500
TZOFFSETTO:-0600
END:STANDARD
END:VTIMEZONE
BEGIN:VTIMEZONE
TZID:UTC
BEGIN:STANDARD
DTSTART:20250723T121810Z
TZOFFSETFROM:+0000
TZOFFSETTO:+0000
END:STANDARD
END:VTIMEZONE
BEGIN:VEVENT
UID:374-4
DTSTAMP:20260419T121810Z
SUMMARY:Pack 254 Committee Meeting
LOCATION:
ORGANIZER;CN=epc_ken:MAILTO:k.richardson.math@gmail.com
DTSTART;TZID=America/Chicago:20260503T160000
DTEND;TZID=America/Chicago:20260503T170000
X-ALT-DESC;FMTTYPE=TEXT/HTML:<p>See <a href="https://www.facebook.com/Pack
 254/" target="_blank">Cub Scout Pack 254 page</a>.</p>\n
CATEGORIES:meetings,  youth and children
URL;VALUE=URI:https://emmanuelpc.org/mc-events/pack-254-committee-meeting/
METHOD:PUBLISH
END:VEVENT
END:VCALENDAR