BEGIN:VCALENDAR
VERSION:2.0
PRODID:spatie/icalendar-generator
DESCRIPTION:Events from Emmanuel Presbyterian
X-WR-CALDESC:Events from Emmanuel Presbyterian
REFRESH-INTERVAL;VALUE=DURATION:PT1440M
X-PUBLISHED-TTL:PT1440M
BEGIN:VTIMEZONE
TZID:America/Chicago
BEGIN:STANDARD
DTSTART:20251102T020000Z
TZOFFSETFROM:-0500
TZOFFSETTO:-0600
END:STANDARD
BEGIN:DAYLIGHT
DTSTART:20260308T020000Z
TZOFFSETFROM:-0600
TZOFFSETTO:-0500
END:DAYLIGHT
END:VTIMEZONE
BEGIN:VTIMEZONE
TZID:UTC
BEGIN:STANDARD
DTSTART:20250725T092427Z
TZOFFSETFROM:+0000
TZOFFSETTO:+0000
END:STANDARD
END:VTIMEZONE
BEGIN:VEVENT
UID:3732-252
DTSTAMP:20260421T092427Z
SUMMARY:April Pack Meeting
LOCATION:
ORGANIZER;CN=epc_JP:MAILTO:jessica@emmanuelpc.org
DTSTART;TZID=America/Chicago:20260413T180000
DTEND;TZID=America/Chicago:20260413T190000
X-ALT-DESC;FMTTYPE=TEXT/HTML:April 13 @ 6pm (Colleyville Nature Center)
CATEGORIES:youth and children
URL;VALUE=URI:https://emmanuelpc.org/mc-events/april-pack-meeting/
METHOD:PUBLISH
END:VEVENT
END:VCALENDAR