BEGIN:VCALENDAR
VERSION:2.0
PRODID:spatie/icalendar-generator
DESCRIPTION:Events from Emmanuel Presbyterian
X-WR-CALDESC:Events from Emmanuel Presbyterian
REFRESH-INTERVAL;VALUE=DURATION:PT1440M
X-PUBLISHED-TTL:PT1440M
BEGIN:VTIMEZONE
TZID:America/Chicago
BEGIN:STANDARD
DTSTART:20251102T020000Z
TZOFFSETFROM:-0500
TZOFFSETTO:-0600
END:STANDARD
BEGIN:DAYLIGHT
DTSTART:20260308T020000Z
TZOFFSETFROM:-0600
TZOFFSETTO:-0500
END:DAYLIGHT
END:VTIMEZONE
BEGIN:VTIMEZONE
TZID:UTC
BEGIN:STANDARD
DTSTART:20250725T092510Z
TZOFFSETFROM:+0000
TZOFFSETTO:+0000
END:STANDARD
END:VTIMEZONE
BEGIN:VEVENT
UID:3723-243
DTSTAMP:20260421T092510Z
SUMMARY:BLESSING OF THE ANIMALS
LOCATION:EPC Parking Lot 2701 Harwood Rd  Bedford TX
ORGANIZER;CN=epc_JP:MAILTO:jessica@emmanuelpc.org
DTSTART;TZID=America/Chicago:20260418T100000
DTEND;TZID=America/Chicago:20260418T110000
X-ALT-DESC;FMTTYPE=TEXT/HTML:WEATHER UPDATE APRIL 18\, 2026: Due to rain\, 
 we have decided to postpone this event.  We will reschedule at a future d
 ate. Stay tuned!!! &amp;nbsp\; Invite your friends\, neighbors\, family member
 s and your favorite pets to this year’s Blessing of the Animals! Join us
  on Saturday\, April 18\, from 10am-11am for a simple prayer with&amp;hellip\;
CATEGORIES:serving our community
URL;VALUE=URI:https://emmanuelpc.org/mc-events/blessing-of-the-animals-3/
METHOD:PUBLISH
END:VEVENT
END:VCALENDAR