BEGIN:VCALENDAR
VERSION:2.0
PRODID:spatie/icalendar-generator
DESCRIPTION:Events from Emmanuel Presbyterian
X-WR-CALDESC:Events from Emmanuel Presbyterian
REFRESH-INTERVAL;VALUE=DURATION:PT1440M
X-PUBLISHED-TTL:PT1440M
BEGIN:VTIMEZONE
TZID:America/Chicago
BEGIN:STANDARD
DTSTART:20251102T020000Z
TZOFFSETFROM:-0500
TZOFFSETTO:-0600
END:STANDARD
BEGIN:DAYLIGHT
DTSTART:20260308T020000Z
TZOFFSETFROM:-0600
TZOFFSETTO:-0500
END:DAYLIGHT
END:VTIMEZONE
BEGIN:VTIMEZONE
TZID:UTC
BEGIN:STANDARD
DTSTART:20250725T092314Z
TZOFFSETFROM:+0000
TZOFFSETTO:+0000
END:STANDARD
END:VTIMEZONE
BEGIN:VEVENT
UID:3384-180
DTSTAMP:20260421T092314Z
SUMMARY:EPC N.E.E.D. volunteer day
LOCATION:
ORGANIZER;CN=epc_JP:MAILTO:jessica@emmanuelpc.org
DTSTART;TZID=America/Chicago:20260330T090000
DTEND;TZID=America/Chicago:20260330T140000
X-ALT-DESC;FMTTYPE=TEXT/HTML:<p>All are encouraged to bring items to put in
  the <a href="https://needdfw.org/" target="_blank">NEED</a> box for
  our local food pantry. See <a href="https://emmanuelpc.org/serve/">ways we reach out to the community</a>.</p>\n
CATEGORIES:serving our community
URL;VALUE=URI:https://emmanuelpc.org/mc-events/epc-n-e-e-d-volunteer-day-8/
METHOD:PUBLISH
END:VEVENT
END:VCALENDAR