BEGIN:VCALENDAR
VERSION:2.0
PRODID:spatie/icalendar-generator
DESCRIPTION:Events from Emmanuel Presbyterian
X-WR-CALDESC:Events from Emmanuel Presbyterian
REFRESH-INTERVAL;VALUE=DURATION:PT1440M
X-PUBLISHED-TTL:PT1440M
BEGIN:VTIMEZONE
TZID:America/Chicago
BEGIN:STANDARD
DTSTART:20251102T020000Z
TZOFFSETFROM:-0500
TZOFFSETTO:-0600
END:STANDARD
BEGIN:DAYLIGHT
DTSTART:20260308T020000Z
TZOFFSETFROM:-0600
TZOFFSETTO:-0500
END:DAYLIGHT
END:VTIMEZONE
BEGIN:VTIMEZONE
TZID:UTC
BEGIN:STANDARD
DTSTART:20250725T092314Z
TZOFFSETFROM:+0000
TZOFFSETTO:+0000
END:STANDARD
END:VTIMEZONE
BEGIN:VEVENT
UID:2806-89
DTSTAMP:20260421T092314Z
SUMMARY:EPC N.E.E.D. volunteer day
LOCATION:
ORGANIZER;CN=epc_JP:MAILTO:jessica@emmanuelpc.org
RRULE:FREQ=MONTHLY;BYMONTHDAY=31;UNTIL=20280131T000000Z
DTSTART;TZID=America/Chicago:20260331T090000
DTEND;TZID=America/Chicago:20260331T140000
X-ALT-DESC;FMTTYPE=TEXT/HTML:
CATEGORIES:serving our community
URL;VALUE=URI:https://emmanuelpc.org/mc-events/epc-n-e-e-d-volunteer-day/?m
 c_id=2806
METHOD:PUBLISH
END:VEVENT
END:VCALENDAR