BEGIN:VCALENDAR
VERSION:2.0
PRODID:spatie/icalendar-generator
DESCRIPTION:Events from Emmanuel Presbyterian
X-WR-CALDESC:Events from Emmanuel Presbyterian
REFRESH-INTERVAL;VALUE=DURATION:PT1440M
X-PUBLISHED-TTL:PT1440M
BEGIN:VTIMEZONE
TZID:America/Chicago
BEGIN:STANDARD
DTSTART:20251102T020000Z
TZOFFSETFROM:-0500
TZOFFSETTO:-0600
END:STANDARD
BEGIN:DAYLIGHT
DTSTART:20260308T020000Z
TZOFFSETFROM:-0600
TZOFFSETTO:-0500
END:DAYLIGHT
BEGIN:STANDARD
DTSTART:20261101T020000Z
TZOFFSETFROM:-0500
TZOFFSETTO:-0600
END:STANDARD
END:VTIMEZONE
BEGIN:VTIMEZONE
TZID:UTC
BEGIN:STANDARD
DTSTART:20250723T135815Z
TZOFFSETFROM:+0000
TZOFFSETTO:+0000
END:STANDARD
END:VTIMEZONE
BEGIN:VEVENT
UID:1833-19
DTSTAMP:20260419T135815Z
SUMMARY:Worship Committee
LOCATION:
ORGANIZER;CN=epc_ken:MAILTO:k.richardson.math@gmail.com
RRULE:FREQ=MONTHLY;BYDAY=2MO;UNTIL=20270901T000000Z
DTSTART;TZID=America/Chicago:20260511T190000
DTEND;TZID=America/Chicago:20260511T200000
X-ALT-DESC;FMTTYPE=TEXT/HTML:<p>See <a href="https://emmanuelpc.org/board
 s/" target="_blank">EPC Committees</a>.</p>\n
CATEGORIES:meetings
URL;VALUE=URI:https://emmanuelpc.org/mc-events/worship-committee/?mc_id=183
 3
METHOD:PUBLISH
END:VEVENT
END:VCALENDAR