BEGIN:VCALENDAR
VERSION:2.0
PRODID:spatie/icalendar-generator
DESCRIPTION:Events from Emmanuel Presbyterian
X-WR-CALDESC:Events from Emmanuel Presbyterian
REFRESH-INTERVAL;VALUE=DURATION:PT1440M
X-PUBLISHED-TTL:PT1440M
BEGIN:VTIMEZONE
TZID:America/Chicago
BEGIN:DAYLIGHT
DTSTART:20240310T020000Z
TZOFFSETFROM:-0600
TZOFFSETTO:-0500
END:DAYLIGHT
BEGIN:STANDARD
DTSTART:20241103T020000Z
TZOFFSETFROM:-0500
TZOFFSETTO:-0600
END:STANDARD
BEGIN:DAYLIGHT
DTSTART:20250309T020000Z
TZOFFSETFROM:-0600
TZOFFSETTO:-0500
END:DAYLIGHT
END:VTIMEZONE
BEGIN:VTIMEZONE
TZID:UTC
BEGIN:STANDARD
DTSTART:20250727T100511Z
TZOFFSETFROM:+0000
TZOFFSETTO:+0000
END:STANDARD
END:VTIMEZONE
BEGIN:VEVENT
UID:1998-28
DTSTAMP:20260423T100511Z
SUMMARY:Facilities Meeting
LOCATION:
ORGANIZER;CN=epc_ken:MAILTO:k.richardson.math@gmail.com
RRULE:FREQ=MONTHLY;BYDAY=3TU;UNTIL=20270901T000000Z
DTSTART;TZID=America/Chicago:20240917T183000
DTEND;TZID=America/Chicago:20240917T193000
X-ALT-DESC;FMTTYPE=TEXT/HTML:<p>See <a href="https://emmanuelpc.org/board
 s/" target="_blank">EPC committees</a>.</p>\n
CATEGORIES:meetings
URL;VALUE=URI:https://emmanuelpc.org/mc-events/facilities-meeting/?mc_id=19
 98
METHOD:PUBLISH
END:VEVENT
END:VCALENDAR