BEGIN:VCALENDAR
VERSION:2.0
PRODID:spatie/icalendar-generator
DESCRIPTION:Events from Emmanuel Presbyterian
X-WR-CALDESC:Events from Emmanuel Presbyterian
REFRESH-INTERVAL;VALUE=DURATION:PT1440M
X-PUBLISHED-TTL:PT1440M
BEGIN:VTIMEZONE
TZID:America/Chicago
BEGIN:DAYLIGHT
DTSTART:20240310T020000Z
TZOFFSETFROM:-0600
TZOFFSETTO:-0500
END:DAYLIGHT
BEGIN:STANDARD
DTSTART:20241103T020000Z
TZOFFSETFROM:-0500
TZOFFSETTO:-0600
END:STANDARD
BEGIN:DAYLIGHT
DTSTART:20250309T020000Z
TZOFFSETFROM:-0600
TZOFFSETTO:-0500
END:DAYLIGHT
END:VTIMEZONE
BEGIN:VTIMEZONE
TZID:UTC
BEGIN:STANDARD
DTSTART:20250723T152559Z
TZOFFSETFROM:+0000
TZOFFSETTO:+0000
END:STANDARD
END:VTIMEZONE
BEGIN:VEVENT
UID:193-3
DTSTAMP:20260419T152559Z
SUMMARY:Children and Youth Check-in
LOCATION:
ORGANIZER;CN=epc_ken:MAILTO:k.richardson.math@gmail.com
RRULE:FREQ=WEEKLY;UNTIL=20270901T000000Z
DTSTART;TZID=America/Chicago:20240922T160000
DTEND;TZID=America/Chicago:20240922T164500
X-ALT-DESC;FMTTYPE=TEXT/HTML:<p><span style="font-size:+1">See <a href="https://emmanuelpc.org/youth/">youth program</a> for more information.</s></p>\n
CATEGORIES:youth and children
URL;VALUE=URI:https://emmanuelpc.org/mc-events/children-and-youth-check-in/
 ?mc_id=193
METHOD:PUBLISH
END:VEVENT
END:VCALENDAR