BEGIN:VCALENDAR
VERSION:2.0
PRODID:spatie/icalendar-generator
DESCRIPTION:Events from Emmanuel Presbyterian
X-WR-CALDESC:Events from Emmanuel Presbyterian
REFRESH-INTERVAL;VALUE=DURATION:PT1440M
X-PUBLISHED-TTL:PT1440M
BEGIN:VTIMEZONE
TZID:America/Chicago
BEGIN:STANDARD
DTSTART:20251102T020000Z
TZOFFSETFROM:-0500
TZOFFSETTO:-0600
END:STANDARD
BEGIN:DAYLIGHT
DTSTART:20260308T020000Z
TZOFFSETFROM:-0600
TZOFFSETTO:-0500
END:DAYLIGHT
END:VTIMEZONE
BEGIN:VTIMEZONE
TZID:UTC
BEGIN:STANDARD
DTSTART:20250725T105603Z
TZOFFSETFROM:+0000
TZOFFSETTO:+0000
END:STANDARD
END:VTIMEZONE
BEGIN:VEVENT
UID:1688-16
DTSTAMP:20260421T105603Z
SUMMARY:Christian Education meeting
LOCATION:
ORGANIZER;CN=epc_ken:MAILTO:k.richardson.math@gmail.com
RRULE:FREQ=MONTHLY;BYDAY=1TH;UNTIL=20270901T000000Z
DTSTART;TZID=America/Chicago:20260402T193000
DTEND;TZID=America/Chicago:20260402T203000
X-ALT-DESC;FMTTYPE=TEXT/HTML:<p>See <a href="https://emmanuelpc.org/faith
 /" target="_blank">faith engagement at Emmanuel</a>. See <a href="https://emmanuelpc.org/boards/" target="_blank">EPC Committees and Boards</a>.</p>\n
CATEGORIES:meetings
URL;VALUE=URI:https://emmanuelpc.org/mc-events/christian-education-meeting/
 ?mc_id=1688
METHOD:PUBLISH
END:VEVENT
END:VCALENDAR