BEGIN:VCALENDAR
VERSION:2.0
PRODID:spatie/icalendar-generator
DESCRIPTION:Events from Emmanuel Presbyterian
X-WR-CALDESC:Events from Emmanuel Presbyterian
REFRESH-INTERVAL;VALUE=DURATION:PT1440M
X-PUBLISHED-TTL:PT1440M
BEGIN:VTIMEZONE
TZID:America/Chicago
BEGIN:DAYLIGHT
DTSTART:20240310T020000Z
TZOFFSETFROM:-0600
TZOFFSETTO:-0500
END:DAYLIGHT
BEGIN:STANDARD
DTSTART:20241103T020000Z
TZOFFSETFROM:-0500
TZOFFSETTO:-0600
END:STANDARD
END:VTIMEZONE
BEGIN:VTIMEZONE
TZID:UTC
BEGIN:STANDARD
DTSTART:20250727T095703Z
TZOFFSETFROM:+0000
TZOFFSETTO:+0000
END:STANDARD
END:VTIMEZONE
BEGIN:VEVENT
UID:1402-12
DTSTAMP:20260423T095703Z
SUMMARY:Chancel Choir
LOCATION:
ORGANIZER;CN=epc_ken:MAILTO:k.richardson.math@gmail.com
DTSTART;TZID=America/Chicago:20240904T193000
DTEND;TZID=America/Chicago:20240904T203000
X-ALT-DESC;FMTTYPE=TEXT/HTML:<p>See <a href="https://emmanuelpc.org/music-
 ministries/">Music Ministries at Emmanuel</a> for more info.</p>\n
CATEGORIES:music,  fellowship
URL;VALUE=URI:https://emmanuelpc.org/mc-events/chancel-choir/
METHOD:PUBLISH
END:VEVENT
END:VCALENDAR