BEGIN:VCALENDAR
VERSION:2.0
PRODID:spatie/icalendar-generator
DESCRIPTION:Events from Emmanuel Presbyterian
X-WR-CALDESC:Events from Emmanuel Presbyterian
REFRESH-INTERVAL;VALUE=DURATION:PT1440M
X-PUBLISHED-TTL:PT1440M
BEGIN:VTIMEZONE
TZID:America/Chicago
BEGIN:DAYLIGHT
DTSTART:20240310T020000Z
TZOFFSETFROM:-0600
TZOFFSETTO:-0500
END:DAYLIGHT
BEGIN:STANDARD
DTSTART:20241103T020000Z
TZOFFSETFROM:-0500
TZOFFSETTO:-0600
END:STANDARD
END:VTIMEZONE
BEGIN:VTIMEZONE
TZID:UTC
BEGIN:STANDARD
DTSTART:20250723T152430Z
TZOFFSETFROM:+0000
TZOFFSETTO:+0000
END:STANDARD
END:VTIMEZONE
BEGIN:VEVENT
UID:1090-10
DTSTAMP:20260419T152430Z
SUMMARY:Weekly Work Crew
LOCATION:
ORGANIZER;CN=epc_ken:MAILTO:k.richardson.math@gmail.com
RRULE:FREQ=WEEKLY;UNTIL=20270901T000000Z
DTSTART;TZID=America/Chicago:20240904T083000
DTEND;TZID=America/Chicago:20240904T103000
X-ALT-DESC;FMTTYPE=TEXT/HTML:<p>See <a href="https://emmanuelpc.org/serve
 /" target="_blank">Service Opportunities at EPC</a>.</p>\n
CATEGORIES:serving our community,  fellowship
URL;VALUE=URI:https://emmanuelpc.org/mc-events/weekly-work-crew/?mc_id=1090
METHOD:PUBLISH
END:VEVENT
END:VCALENDAR